BEGIN:VCALENDAR
PRODID:-//Det Danske Spejderkorps//NONSGML Gruppeweb//EN
VERSION:2.0
CALSCALE:GREGORIAN
X-PUBLISHED-TTL:PT1H
X-WR-CALNAME:Albertslundspejderne
METHOD:PUBLISH
BEGIN:VEVENT
UID:gruppeweb.dk:2401:event:532
DTSTAMP:20260421T041841Z
LAST-MODIFIED:20250506T170547Z
SUMMARY:Spejdernes dag
DESCRIPTION:Oplev en dag med sjov\, fællesskab og leg i naturen! Du og din
  familie  \ninviteres til Spejderdag i jeres lokale spejdergruppe\, hvor I
  kan få en  \nforsmag på spejderlivet. Der er nemlig plads til flere om 
 lejrbålet hos os.\n\n*Til Spejderdag kan I opleve:  \n‍*✔ Sjove spej
 deraktiviteter for hele familien \n✔ Gratis naturoplevelser i jeres lok
 alområde \n✔ Garanti for grin\, fællesskab og bålhygge \nSpejder er
  store oplevelser\, fællesskab\, sug i maven\, sved på panden og  \nselv
 tillid resten af livet. Vi håber\, at I vil være med til en dag fyldt  \
 nmed friluftsaktiviteter og gode grin.\n\n
URL:https://albertslundspejderne.dk/begivenhed/spejdernes-dag
DTSTART:20250511T080000Z
DTEND:20250511T110000Z
LOCATION:Albertslundspejderne\, Egelundsvej 7C\, 2620 Albertslund
END:VEVENT
BEGIN:VEVENT
UID:gruppeweb.dk:2401:event:533
DTSTAMP:20260421T041841Z
LAST-MODIFIED:20260212T184130Z
SUMMARY:Sundhedsdag
DESCRIPTION:Vi har sammen med andre foreninger i Albertslund tilmeldt os ko
 mmunens  \nsundhedsdag. Vi deltager med leg. Og håber at se så mange spe
 jdere som  \nmuligt.\n\nDet er gratis at deltage.\n\nTilmelding er ikke n
 ødvendig. Man møder bare op i Albertslund Centrum.\n\n
URL:https://albertslundspejderne.dk/begivenhed/sundhedsdag
DTSTART:20250524T090000Z
DTEND:20250524T120000Z
LOCATION:Albertslundspejderne\, Egelundsvej 7C\, 2620 Albertslund
END:VEVENT
BEGIN:VEVENT
UID:gruppeweb.dk:2401:event:527
DTSTAMP:20260421T041841Z
LAST-MODIFIED:20260212T184137Z
SUMMARY:Sommerlejr 2025
DESCRIPTION:Sidste år var vi på Gurredam spejdercenter\, og det var en k
 æmpe succes.  \nGode aktiviteter\, mega god stemning på spejdercenteret 
 og som altid dejligt  \nat være sammen voksne og spejdere.\n\nAlle grene 
 deltager\, det vil sige tropperne\, juniorerne\, minierne og  \nfamiliespe
 jderne.\nTroppen\, juniorer og minier tager afsted lørdag den 28. juni og
  kommer hjem  \nonsdag den 2 juli. Pris 500 kr.\n\nFamiliespejderne kan va
 lgfrit vælge om de vil afsted alle dage eller kun  \nnogle af dagene. Fam
 iliespejdere skal selvfølgelig have en (eller flere)  \nforældre med. Pr
 is for familiespejdere er 100 kr pr dag pr person.\n\nAndre forældre er o
 gså meget velkomne til også deltage. Som forældre  \nindgår man på li
 gefod med lederne - det er sjovt at være\, så man kan godt  \nblive afh
 ængig af det :-)\n\nPå Gurredam Spejdercenter møder vi en masse andre s
 pejdere\, både til  \nmorgensamling\, lejrbål og på de mange aktivitete
 r\, som Gurredam  \nspejdercenter tilbyder. Der er for eksempel smedje\, k
 latring\, naturvejledning  \ni skoven\, mad i oldes køkken\, bygning af t
 ømrerflåde og meget mere.  \nGurredam Spejdercenter ligger 5 km fra Hels
 ingør\, I kan læse mere om  \nGurredam her https://www.gurredam.dk/.\n\n
 Vi sover i telte på lejren og den første dag går med lejr-etablering\, 
 det  \nvil sige teltopslag\, etablering af fedtfælde (hul til spildevand)
 \, bygning  \naf borde og meget mere.\n\nPakkeliste:\n\nSovepose\n\nLiggeu
 nderlag\n\nSovedyr\nRegntøj\n\nTøj efter vejret\n\nBadetøj\n\nHåndklæ
 de\n\nToiletting\n\nSpisegrej\n\nViskestykke\n\nEvt Uniform.\nSpejdertørk
 læde\n\nTurtaske\n\nSolcreme\nDrikkedunk\nkasket\n\n\nDet bliver en skær
 mfri sommerlejr\, så ingen mobiltelefoner er velkomne.  \nLederne kan dog
  kontaktes via mobil.\n\n\n\n\n
URL:https://albertslundspejderne.dk/begivenhed/sommerlejr-2025
DTSTART:20250628T070000Z
DTEND:20250702T140000Z
LOCATION:Albertslundspejderne\, Egelundsvej 7C\, 2620 Albertslund
END:VEVENT
BEGIN:VEVENT
UID:gruppeweb.dk:2401:event:534
DTSTAMP:20260421T041841Z
LAST-MODIFIED:20250805T114209Z
SUMMARY:Gensynsmøde
DESCRIPTION:Kære alle spejdere og familier.\n\n\nVi holder gensynsmøde on
 sdag den 13. august fra kl. 18.00 til 20.00.\n\n\nGensynsmøde er et lille
  arrangement\, som er en fast tradition hos  \nAlbertslundspejderne\, hvor
  spejdere med familie (forældre\, spejdere og  \nsøskende) mødes på tv
 ærs af alle grenene. Vi leger\, griller\, spiser  \nsammen og holder bål
 hygge. Det er vores måde at markere at nu starter et  \nnyt spejderår me
 d masser af gode spejderoplevelser. \n\n\nVi sørger for bål\, så I kan
  tilberede det medbragte kød/grøntsager. Vi  \nsørger for salat\, brød
  og saftevand.\n\n\nMedbring tallerkner\, bestik\, kopper og evt kaffe ell
 er te. Hvis man har lyst  \nmå man gerne bage en kage :-). \n\n\n
URL:https://albertslundspejderne.dk/begivenhed/gensynsmoede-5
DTSTART:20250813T160000Z
DTEND:20250813T180000Z
LOCATION:Albertslundspejderne\, Egelundsvej 7C\, 2620 Albertslund
END:VEVENT
BEGIN:VEVENT
UID:gruppeweb.dk:2401:event:538
DTSTAMP:20260421T041841Z
LAST-MODIFIED:20260212T184126Z
SUMMARY:Fredagshygge på spejdergården
DESCRIPTION:Vi holder fredaghygge på spejdergården.\n\nVi laver mad samme
 n og bagefter er der planlagt leg og hygge.\n\nVi skal blandt andet afprø
 ve vores nye elastikskydere.\n\n
URL:https://albertslundspejderne.dk/begivenhed/fredagshygge-paa-spejdergaar
 den
DTSTART:20251024T150000Z
DTEND:20251024T190000Z
LOCATION:Albertslundspejderne\, Egelundsvej 7C\, 2620 Albertslund
END:VEVENT
BEGIN:VEVENT
UID:gruppeweb.dk:2401:event:540
DTSTAMP:20260421T041841Z
LAST-MODIFIED:20251118T101258Z
SUMMARY:Juleræs
DESCRIPTION:Tidligere kendt som speedjul.\nPatruljerne dyster mod hinanden\
 , om at komme igennem hele december måned på  \net spejdermøde. I løbe
 t af den angivne tid skal de nå dagens gøremål og  \ntænke på om der 
 er nogle deadlines\, der skal overholdes. Som f.eks.  \naflevering af jule
 kort. Undervejs skal patruljen også nå nogle bonus  \nopgaver.\n\n
URL:https://albertslundspejderne.dk/begivenhed/juleraes
DTSTART:20251119T160000Z
DTEND:20251119T183000Z
LOCATION:
END:VEVENT
BEGIN:VEVENT
UID:gruppeweb.dk:2401:event:542
DTSTAMP:20260421T041841Z
LAST-MODIFIED:20251126T181844Z
SUMMARY:Julehygge
DESCRIPTION:Julehygge 2025Vi holder julehygge for alle Albertslundspejderne
  og alle fra  \nfamilien er velkommen – Det bliver så hyggeligt!Det bli
 ver d. 3. December  \nkl. 18:00-20:00\, hvor vi ønsker hinanden god jul. 
 Vi skal lege\, smovse i  \næbleskiver og dejlige søde sager. Vi skal spi
 lle det traditionelle  \njule-banko\, hvor man kan vinde spændende gaver.
  .Hvem bliver den smukke  \nLucia brud i år? Det er altid spændende :) 
 Det eneste du skal gøre er  \nat•medbringe kaffe/te til dig selv og din
  familie. Vi sørger for saft til  \nbørnene.•tilmelde dig på vores hj
 emmeside inden den 2.  \nDecember: https://albertslundspejderne.dk/begive
 nhed/julehygge Med  \njulespejder hilsnerBestyrelsen for Albertslundspejd
 erne\n\n
URL:https://albertslundspejderne.dk/begivenhed/julehygge
DTSTART:20251203T170000Z
DTEND:20251203T190000Z
LOCATION:Albertslundspejderne\, Egelundsvej 7C\, 2620 Albertslund
END:VEVENT
BEGIN:VEVENT
UID:gruppeweb.dk:2401:event:543
DTSTAMP:20260421T041841Z
LAST-MODIFIED:20251203T112202Z
SUMMARY:Fredagshygge på spejdergården
DESCRIPTION:Vi laver mad sammen på spejdergården og hygger og leger efter
  vi har spist.  \nDe spejdere\, der har lyst\, kan overnatte i vores lokal
 er på spejdergården.  \nVælger man overnatning\, slutter arrangementet 
 lørdag kl. 9:30.\n\n*Huskeliste\, hvis man overnatter:*\n\n * Sovepose\n 
   \n * Liggeunderlag\n   \n * Sovedyr\n   \n * lygte\n   \n * Tandbørste\
 n   \n\n
URL:https://albertslundspejderne.dk/begivenhed/fredagshygge-paa-spejdergaar
 den-0
DTSTART:20251212T160000Z
DTEND:20251212T200000Z
LOCATION:Albertslundspejderne\, Egelundsvej 7C\, 2620 Albertslund
END:VEVENT
BEGIN:VEVENT
UID:gruppeweb.dk:2401:event:541
DTSTAMP:20260421T041841Z
LAST-MODIFIED:20260212T184119Z
SUMMARY:Julemarked på Dyregården
DESCRIPTION:Vi tager på Dyregården (Toftegården)\, hvor vi har lidt akti
 viteter. Kom og  \nhyg med os\, og vær med til ponytræk\, pandekager ove
 r bål og meget andet.  \nHusk tørklæde og uniform\, hvis du har en.\,\n
 \n
URL:https://albertslundspejderne.dk/begivenhed/julemarked-paa-dyregaarden
DTSTART:20251213T090000Z
DTEND:20251213T120000Z
LOCATION:Dyregården (Toftegården)\, Vridsløsestræde 29\, 2620 Albertslu
 nd
END:VEVENT
BEGIN:VEVENT
UID:gruppeweb.dk:2401:event:545
DTSTAMP:20260421T041841Z
LAST-MODIFIED:20260212T184112Z
SUMMARY:Møde om sommerlejren
DESCRIPTION:Albertslundspejderne tager på Spejdernes lejr 2026.\nDen 18.-2
 6. juli 2026 danner Hedeland Naturpark i Tåstrup rammen om  \nSpejdernes 
 lejr 2026. Der forventes at komme omkring 30.000 spejdere\, og der  \nvent
 er mange skønne spejderoplevelser.\nFamiliespejderne\, minierne\, juniore
 rne og troppen tager sammen afsted. Det er  \nogså muligt at deltage som 
 forældrehjælpere.\n\nVi holder forældremøde om spejderlejren\, så kom
  og hør mere.\nhttps://spejderneslejr.dk/\n\n
URL:https://albertslundspejderne.dk/begivenhed/moede-om-sommerlejren
DTSTART:20260128T170000Z
DTEND:20260128T173000Z
LOCATION:Albertslundspejderne\, Egelundsvej 7C\, 2620 Albertslund
END:VEVENT
BEGIN:VEVENT
UID:gruppeweb.dk:2401:event:516
DTSTAMP:20260421T041841Z
LAST-MODIFIED:20260202T132947Z
SUMMARY:Grupperådsmøde - Vi spiser\, leger og holder møde
DESCRIPTION:-------- KÆRE ALLE FORÆLDRE\, SPEJDERE OG SØSKENDE ---------
 ----------------\n\nForældre og børn inviteres til grupperådsmøde i
  vores lokaler på  \nRoskilde Kro onsdag den 25.02.2026 kl. 18.00-20.00
 .\n\nVi starter med at spise sammen kl. 18.00. Vi sørger for mad og servi
 ce.\n\nKl. 18.45 holder vi tænkedag\n\nHer er lidt om baggrunden for tæn
 kedagen:\n\n/Den 22. februar hvert år fejres Tænkedag af spejdere over 
 hele Jorden.  \nTænkedag er den dag hvor Robert og Olave Baden Powell beg
 ge havde  \nfødselsdag. Robert Baden Powell startede spejderbevægelsen i
  1907\, og blev  \nsenere Verdensspejderchef. Hans kone Olave overtog sene
 re  \npigespejderbevægelsen\, og sammen var de Verdensspejderchefer til d
 eres  \ndød./\n\n/De fik begge en masse fødselsdagsgaver af spejderne\, 
 men opfordrede  \nspejderne til at indsamle penge i stedet for at give dem
  gaver\, så gaverne  \nkunne gå til gode formål./\n\n/Derfor er det nu 
 en tradition\, at grupperne samler penge ind på Tænkedag.  \nVi plejer a
 t samle 2 kr. pr. år man har været spejder./\n\n/Læs mere her: https://
 dds.dk/artikel/taenkedag/\n\nKl. 19.00-20.00: Spejderne går ud og leger m
 ed nogle spejderledere. \n\nForældre bliver tilbage og holder grupperåd
 smøde.\n\nGrupperådsmødet er spejdernes general-forsamling. Det er her 
 vi blandt  \nandet behandler regnskabet\, budget og valg til bestyrelsen. 
 Dagsorden og  \nmaterialer til grupperådsmødet kan ses  \npå https://a
 lbertslundspejderne.dk/grupperaadsmoede-2026 [1]\n[2].\n\nVi vil meget ger
 ne have flere forældre i bestyrelsen. Så vi vil gerne gøre  \nlidt rekl
 ame for bestyrelsesarbejdet:\n\n * I bestyrelsesarbejdet har man mulighed 
 for at styrke vores gruppe\, så vi\n   kan give bedre oplevelser til vore
 s spejdere. \n * Vi synes selv vi har en uhøjtidelig og god stemning på
  møderne\, hvor\n   der bliver grint en del :-)\n * Vi holder fire bestyr
 elsemøder om året\, derudover mødes vi til to\n   workshops.\n * Se mer
 e på bestyrelsesmedlem hos albertslundspejderne [3]\n\n\n[1] https://alb
 ertslundspejderne.dk/grupperaadsmoede-2026\n[2] https://albertslundspejder
 ne.dk/grupperaadsmoede-2024\n[3] https://albertslundspejderne.dk/bestyrels
 esmedlem-hos-albertslundspejderne\n
URL:https://albertslundspejderne.dk/begivenhed/grupperaadsmoede-vi-spiser-l
 eger-og-holder-moede-1
DTSTART:20260225T170000Z
DTEND:20260225T190000Z
LOCATION:Albertslundspejderne\, Egelundsvej 7C\, 2620 Albertslund
END:VEVENT
BEGIN:VEVENT
UID:gruppeweb.dk:2401:event:544
DTSTAMP:20260421T041841Z
LAST-MODIFIED:20260212T184115Z
SUMMARY:Åbent hus - Spiontræning
DESCRIPTION:Alle børn inviteres til en spændende aften med sporjagt\,\nhe
 mmelige koder og vilde mysterier.\n\n\nGennemfører du testen\, får\ndu e
 t spionbevis - med ret til at spionere.\n\nTag din mor eller far med til e
 n hyggelig og spændende aften.\nSpiontræningen foregår onsdag d. 4. mar
 ts:\nKl. 17:00 – 18:00: Primært for de 3-6-årige\nKl. 18:00 – 19:30:
  Primært for 7-12-årige\nVi slutter ved bålet med saft og snobrød.\nAd
 resse: Roskilde Kro\, Egelundsvej 7C\, 2620 Albertslund\n\n
URL:https://albertslundspejderne.dk/begivenhed/aabent-hus-spiontraening
DTSTART:20260304T160000Z
DTEND:20260304T190000Z
LOCATION:Albertslundspejderne\, Egelundsvej 7C\, 2620 Albertslund
END:VEVENT
BEGIN:VEVENT
UID:gruppeweb.dk:2401:event:531
DTSTAMP:20260421T041841Z
LAST-MODIFIED:20260326T185825Z
SUMMARY:Sæbekasseløb
DESCRIPTION:Kære spejdere\nSå nærmer foråret sig og vi inviterer igen t
 il det årlige  \nsæbekasseløb.Løbet afholdes som sædvanligt ved Roski
 lde Kro. Der vil  \nvære præmier :-)\nVi har igen i år inviteret spejde
 re fra hele divisionen til at deltage\, så  \nvi håber på stor opbaknin
 g. Programmet er som følger:\nKl. 17.00 Indtjek Kl. 17.15 Løbet starte
 r. Vi serverer den legendariske  \nblomkålssuppe ved målstregen.Kl. 18.
 30-19.00 Bålhygge og  \npræmieoverrækkelse.\nDet er gratis at være med
 . \nVi glæder os meget til at være sammen med jer. \n
URL:https://albertslundspejderne.dk/begivenhed/saebekasseloeb-1
DTSTART:20260520T150000Z
DTEND:20260520T170000Z
LOCATION:Albertslundspejderne\, Egelundsvej 7C\, 2620 Albertslund
END:VEVENT
BEGIN:VEVENT
UID:gruppeweb.dk:2401:event:551
DTSTAMP:20260421T041841Z
LAST-MODIFIED:20260412T100511Z
SUMMARY:Shelterovernatning på Nyord
DESCRIPTION:\n\nVi mødes på Roskilde kro (spejder gården) klokken 9.00 l
 ørdag den 30 maj  \nog vi kører sammen i bil. Vi er hjemme igen søndag 
 omkring kl. 11.\n\n\nPakkeliste:\n\n- tøj til vejret\n\n- gummistøvler o
 g regntøj\n\n- liggeunderlag\n\n- sovepose (hvis vejret er fint kan man n
 ok godt klare sig med en dyne)\n\n- lille rygsæk\n\n- sovedyr\n\n- toilet
 taske \n\n- håndklæde\n\n- solcreme\n\n- evt myggemiddel\n\n- viskestyk
 ke\n\n- service (flad og dyb tallerken\, kop/krus og bestik)\n\n- lommelyg
 te \n\n\nPrisen er 75 kr pr person\n\n\n
URL:https://albertslundspejderne.dk/begivenhed/shelterovernatning-paa-nyord
DTSTART:20260530T070000Z
DTEND:20260531T090000Z
LOCATION:Albertslundspejderne\, Egelundsvej 7C\, 2620 Albertslund
END:VEVENT
BEGIN:VEVENT
UID:gruppeweb.dk:2401:event:547
DTSTAMP:20260421T041841Z
LAST-MODIFIED:20260228T105459Z
SUMMARY:Tilmelding til Spejdernes lejr
DESCRIPTION: Kære spejdere og forældre.\n\n\nNu er det tid til tilmeldin
 g til den Spejdernes lejr 2026  \n\n\nTil sommer afholdes for 4. gang No
 rdens største spejderlejr\, Spejdernes Lejr  \n2026\, og vi skal selvføl
 gelig med! Det forventes\, at der deltager 30.000  \nbørn og unge og tema
 et for lejren er "Alle ind i fællesskabe"\, så uanset  \nhvem er man er\
 , bliver det en af årets største spejder oplevelser. \nLæs   invitat
 ionen [1] på vores hjemme side\n\n \n\n\n[1] https://albertslundspejder
 ne.dk/files/2026-01/Spejdernes-Lejr-2026-invitation.pdf\n
URL:https://albertslundspejderne.dk/begivenhed/tilmelding-til-spejdernes-le
 jr
DTSTART:20260718T080000Z
DTEND:20260726T110000Z
LOCATION:Albertslundspejderne\, Egelundsvej 7C\, 2620 Albertslund
END:VEVENT
END:VCALENDAR
